BEGIN:VCALENDAR
VERSION:2.0
PRODID:-//DCBA - ECPv6.15.20//NONSGML v1.0//EN
CALSCALE:GREGORIAN
METHOD:PUBLISH
X-ORIGINAL-URL:https://dunnellonchamber.com
X-WR-CALDESC:Events for DCBA
REFRESH-INTERVAL;VALUE=DURATION:PT1H
X-Robots-Tag:noindex
X-PUBLISHED-TTL:PT1H
BEGIN:VTIMEZONE
TZID:America/New_York
BEGIN:DAYLIGHT
TZOFFSETFROM:-0500
TZOFFSETTO:-0400
TZNAME:EDT
DTSTART:20230312T070000
END:DAYLIGHT
BEGIN:STANDARD
TZOFFSETFROM:-0400
TZOFFSETTO:-0500
TZNAME:EST
DTSTART:20231105T060000
END:STANDARD
BEGIN:DAYLIGHT
TZOFFSETFROM:-0500
TZOFFSETTO:-0400
TZNAME:EDT
DTSTART:20240310T070000
END:DAYLIGHT
BEGIN:STANDARD
TZOFFSETFROM:-0400
TZOFFSETTO:-0500
TZNAME:EST
DTSTART:20241103T060000
END:STANDARD
BEGIN:DAYLIGHT
TZOFFSETFROM:-0500
TZOFFSETTO:-0400
TZNAME:EDT
DTSTART:20250309T070000
END:DAYLIGHT
BEGIN:STANDARD
TZOFFSETFROM:-0400
TZOFFSETTO:-0500
TZNAME:EST
DTSTART:20251102T060000
END:STANDARD
END:VTIMEZONE
BEGIN:VEVENT
DTSTART;TZID=America/New_York:20241101T180000
DTEND;TZID=America/New_York:20241101T200000
DTSTAMP:20260420T081003
CREATED:20240306T162114Z
LAST-MODIFIED:20241028T163700Z
UID:5544-1730484000-1730491200@dunnellonchamber.com
SUMMARY:Please join us on Friday Noember 1\, 2024 for our next Business After Hours at Rainbow Springs Art in Dunnellon.
DESCRIPTION:Please join us on Friday\, November 1\, 2024\, at 6 pm.  For our next Business After Hours at Rainbow Springs Art in Dunnellon. Located at 20804 W. Pennsylvania Ave. Dunnellon. Come on out and network with your fellow businesses\, enjoy some art\, refreshments\, door prizes\, and get to know more about Rainbow Springs Art in Dunnellon.
URL:https://dunnellonchamber.com/event/please-join-us-on-friday-noember-1-2024-for-our-next-business-after-hours-at-rainbow-springs-art-in-dunnellon/
LOCATION:Rainbow Springs Art Coop\, 20804 W Pennsylvania Ave.\, Dunnellon\, Florida\, 34432
CATEGORIES:Networking
ATTACH;FMTTYPE=image/jpeg:https://dunnellonchamber.com/wp-content/uploads/2024/10/November-Business-After-Hours.jpg
END:VEVENT
END:VCALENDAR