BEGIN:VCALENDAR
VERSION:2.0
PRODID:-//DCBA - ECPv6.15.20//NONSGML v1.0//EN
CALSCALE:GREGORIAN
METHOD:PUBLISH
X-ORIGINAL-URL:https://dunnellonchamber.com
X-WR-CALDESC:Events for DCBA
REFRESH-INTERVAL;VALUE=DURATION:PT1H
X-Robots-Tag:noindex
X-PUBLISHED-TTL:PT1H
BEGIN:VTIMEZONE
TZID:America/New_York
BEGIN:DAYLIGHT
TZOFFSETFROM:-0500
TZOFFSETTO:-0400
TZNAME:EDT
DTSTART:20240310T070000
END:DAYLIGHT
BEGIN:STANDARD
TZOFFSETFROM:-0400
TZOFFSETTO:-0500
TZNAME:EST
DTSTART:20241103T060000
END:STANDARD
BEGIN:DAYLIGHT
TZOFFSETFROM:-0500
TZOFFSETTO:-0400
TZNAME:EDT
DTSTART:20250309T070000
END:DAYLIGHT
BEGIN:STANDARD
TZOFFSETFROM:-0400
TZOFFSETTO:-0500
TZNAME:EST
DTSTART:20251102T060000
END:STANDARD
BEGIN:DAYLIGHT
TZOFFSETFROM:-0500
TZOFFSETTO:-0400
TZNAME:EDT
DTSTART:20260308T070000
END:DAYLIGHT
BEGIN:STANDARD
TZOFFSETFROM:-0400
TZOFFSETTO:-0500
TZNAME:EST
DTSTART:20261101T060000
END:STANDARD
END:VTIMEZONE
BEGIN:VEVENT
DTSTART;TZID=America/New_York:20250606T180000
DTEND;TZID=America/New_York:20250606T193000
DTSTAMP:20260421T003337
CREATED:20250604T175441Z
LAST-MODIFIED:20250604T175441Z
UID:6716-1749232800-1749238200@dunnellonchamber.com
SUMMARY:Business After Hours June 6: Practical Behavior Solutions 6pm
DESCRIPTION:Please join us at Practical Behavior Solutions on Friday June 6 at 6pm for a Business After Hours event. This is a free event for the business community to learn all about Practical Behavior Solutions. Light refreshments will be served\, and there will be an opportunity for networking among attendees. \nTo RSVP\, please call the DCBA at 352-489-2320 or email us at info@dunnellonchamber.com
URL:https://dunnellonchamber.com/event/business-after-hours-june-6-practical-behavior-solutions-6pm/
LOCATION:Florida
CATEGORIES:Networking
ATTACH;FMTTYPE=image/jpeg:https://dunnellonchamber.com/wp-content/uploads/2025/06/Practical-Behavior-Solutions-Business-After-Hours-June-6.jpg
END:VEVENT
END:VCALENDAR