BEGIN:VCALENDAR
VERSION:2.0
PRODID:-//DCBA - ECPv6.15.20//NONSGML v1.0//EN
CALSCALE:GREGORIAN
METHOD:PUBLISH
X-WR-CALNAME:DCBA
X-ORIGINAL-URL:https://dunnellonchamber.com
X-WR-CALDESC:Events for DCBA
REFRESH-INTERVAL;VALUE=DURATION:PT1H
X-Robots-Tag:noindex
X-PUBLISHED-TTL:PT1H
BEGIN:VTIMEZONE
TZID:America/New_York
BEGIN:DAYLIGHT
TZOFFSETFROM:-0500
TZOFFSETTO:-0400
TZNAME:EDT
DTSTART:20240310T070000
END:DAYLIGHT
BEGIN:STANDARD
TZOFFSETFROM:-0400
TZOFFSETTO:-0500
TZNAME:EST
DTSTART:20241103T060000
END:STANDARD
BEGIN:DAYLIGHT
TZOFFSETFROM:-0500
TZOFFSETTO:-0400
TZNAME:EDT
DTSTART:20250309T070000
END:DAYLIGHT
BEGIN:STANDARD
TZOFFSETFROM:-0400
TZOFFSETTO:-0500
TZNAME:EST
DTSTART:20251102T060000
END:STANDARD
BEGIN:DAYLIGHT
TZOFFSETFROM:-0500
TZOFFSETTO:-0400
TZNAME:EDT
DTSTART:20260308T070000
END:DAYLIGHT
BEGIN:STANDARD
TZOFFSETFROM:-0400
TZOFFSETTO:-0500
TZNAME:EST
DTSTART:20261101T060000
END:STANDARD
END:VTIMEZONE
BEGIN:VEVENT
DTSTART;TZID=America/New_York:20250924T120000
DTEND;TZID=America/New_York:20250924T120000
DTSTAMP:20260421T060228
CREATED:20250915T184042Z
LAST-MODIFIED:20250915T184042Z
UID:6996-1758715200-1758715200@dunnellonchamber.com
SUMMARY:Ribbon Cutting: First National Title & Escrow
DESCRIPTION:Join us as we help welcome First National Title & Escrow to the DCBA! The Ribbon Cutting will take place at noon on September 24\, 2025. Light refreshments will be served.\nHope to see you there!
URL:https://dunnellonchamber.com/event/ribbon-cutting-first-national-title-escrow/
LOCATION:2436 N Heritage Oaks Path\, Hernando\, FL 34442\, 2436 N Heritage Oaks Path\, Hernando\, FL\, 34442\, United States
ATTACH;FMTTYPE=image/png:https://dunnellonchamber.com/wp-content/uploads/2025/09/FirstNTE.png
END:VEVENT
END:VCALENDAR