BEGIN:VCALENDAR
VERSION:2.0
PRODID:-//DCBA - ECPv6.15.20//NONSGML v1.0//EN
CALSCALE:GREGORIAN
METHOD:PUBLISH
X-ORIGINAL-URL:https://dunnellonchamber.com
X-WR-CALDESC:Events for DCBA
REFRESH-INTERVAL;VALUE=DURATION:PT1H
X-Robots-Tag:noindex
X-PUBLISHED-TTL:PT1H
BEGIN:VTIMEZONE
TZID:America/New_York
BEGIN:DAYLIGHT
TZOFFSETFROM:-0500
TZOFFSETTO:-0400
TZNAME:EDT
DTSTART:20240310T070000
END:DAYLIGHT
BEGIN:STANDARD
TZOFFSETFROM:-0400
TZOFFSETTO:-0500
TZNAME:EST
DTSTART:20241103T060000
END:STANDARD
BEGIN:DAYLIGHT
TZOFFSETFROM:-0500
TZOFFSETTO:-0400
TZNAME:EDT
DTSTART:20250309T070000
END:DAYLIGHT
BEGIN:STANDARD
TZOFFSETFROM:-0400
TZOFFSETTO:-0500
TZNAME:EST
DTSTART:20251102T060000
END:STANDARD
BEGIN:DAYLIGHT
TZOFFSETFROM:-0500
TZOFFSETTO:-0400
TZNAME:EDT
DTSTART:20260308T070000
END:DAYLIGHT
BEGIN:STANDARD
TZOFFSETFROM:-0400
TZOFFSETTO:-0500
TZNAME:EST
DTSTART:20261101T060000
END:STANDARD
END:VTIMEZONE
BEGIN:VEVENT
DTSTART;TZID=America/New_York:20251011T170000
DTEND;TZID=America/New_York:20251011T220000
DTSTAMP:20260421T065119
CREATED:20250910T154649Z
LAST-MODIFIED:20250910T155001Z
UID:6981-1760202000-1760220000@dunnellonchamber.com
SUMMARY:Two Rivers Music Festival & Food Truck Rally
DESCRIPTION:Put on your dancing shoes! \nOnce again\, Dunnellon will be celebrating the best in music with its annual Two Rivers Music Festival & Food Truck Rally on October 11\, 2025 from 5 to 10 pm\, located on E. Pennsylvania Avenue and at Ernie Mills Park. \nThe festivities will offer music acts of different genres playing at a handful different locations throughout the festival area. Visit local shops and participating craft and business vendors as you stroll the streets of Dunnellon. Have a bite to eat from our food vendors and local restaurants and whet your whistle at our beverage tents. \nWe are currently seeking sponsors and vendors for this event. Please click here to download applications and pay for vendor space or sponsorships\, and of course\, please contact the Chamber at 352-489-2320 or email info@dunnellonchamber.com if you have any questions.
URL:https://dunnellonchamber.com/event/two-rivers-music-festival-food-truck-rally/
CATEGORIES:Community Event,Music Festival
ATTACH;FMTTYPE=image/jpeg:https://dunnellonchamber.com/wp-content/uploads/2025/07/Music-Festival-Art.jpg
END:VEVENT
END:VCALENDAR