BEGIN:VCALENDAR
VERSION:2.0
PRODID:-//DCBA - ECPv6.15.20//NONSGML v1.0//EN
CALSCALE:GREGORIAN
METHOD:PUBLISH
X-ORIGINAL-URL:https://dunnellonchamber.com
X-WR-CALDESC:Events for DCBA
REFRESH-INTERVAL;VALUE=DURATION:PT1H
X-Robots-Tag:noindex
X-PUBLISHED-TTL:PT1H
BEGIN:VTIMEZONE
TZID:America/New_York
BEGIN:DAYLIGHT
TZOFFSETFROM:-0500
TZOFFSETTO:-0400
TZNAME:EDT
DTSTART:20220313T070000
END:DAYLIGHT
BEGIN:STANDARD
TZOFFSETFROM:-0400
TZOFFSETTO:-0500
TZNAME:EST
DTSTART:20221106T060000
END:STANDARD
BEGIN:DAYLIGHT
TZOFFSETFROM:-0500
TZOFFSETTO:-0400
TZNAME:EDT
DTSTART:20230312T070000
END:DAYLIGHT
BEGIN:STANDARD
TZOFFSETFROM:-0400
TZOFFSETTO:-0500
TZNAME:EST
DTSTART:20231105T060000
END:STANDARD
BEGIN:DAYLIGHT
TZOFFSETFROM:-0500
TZOFFSETTO:-0400
TZNAME:EDT
DTSTART:20240310T070000
END:DAYLIGHT
BEGIN:STANDARD
TZOFFSETFROM:-0400
TZOFFSETTO:-0500
TZNAME:EST
DTSTART:20241103T060000
END:STANDARD
END:VTIMEZONE
BEGIN:VEVENT
DTSTART;TZID=America/New_York:20231012T100000
DTEND;TZID=America/New_York:20231012T110000
DTSTAMP:20260419T161445
CREATED:20231002T160632Z
LAST-MODIFIED:20231002T160657Z
UID:5021-1697104800-1697108400@dunnellonchamber.com
SUMMARY:Dunnellon Police Department Ribbon Cutting
DESCRIPTION:Please join us for a ribbon cutting for the Dunnellon Police Department on Thursday\, October 12\, at 10 a.m. at the station located at 12014 S. Williams St. Come out for the unveiling of the new police car and logo. Light refreshments will be served.
URL:https://dunnellonchamber.com/event/dunnellon-police-department-ribbon-cutting/
LOCATION:Dunnellon Police Department\, 12014 S. Williams St.\, Dunnellon\, FL\, 34432\, United States
CATEGORIES:Ribbon Cutting
ATTACH;FMTTYPE=image/png:https://dunnellonchamber.com/wp-content/uploads/2023/10/Dunnellon-Police-Department-Ribbon-Cutting-Edited.png
END:VEVENT
END:VCALENDAR