BEGIN:VCALENDAR
VERSION:2.0
PRODID:-//DCBA - ECPv6.15.20//NONSGML v1.0//EN
CALSCALE:GREGORIAN
METHOD:PUBLISH
X-ORIGINAL-URL:https://dunnellonchamber.com
X-WR-CALDESC:Events for DCBA
REFRESH-INTERVAL;VALUE=DURATION:PT1H
X-Robots-Tag:noindex
X-PUBLISHED-TTL:PT1H
BEGIN:VTIMEZONE
TZID:America/New_York
BEGIN:DAYLIGHT
TZOFFSETFROM:-0500
TZOFFSETTO:-0400
TZNAME:EDT
DTSTART:20240310T070000
END:DAYLIGHT
BEGIN:STANDARD
TZOFFSETFROM:-0400
TZOFFSETTO:-0500
TZNAME:EST
DTSTART:20241103T060000
END:STANDARD
BEGIN:DAYLIGHT
TZOFFSETFROM:-0500
TZOFFSETTO:-0400
TZNAME:EDT
DTSTART:20250309T070000
END:DAYLIGHT
BEGIN:STANDARD
TZOFFSETFROM:-0400
TZOFFSETTO:-0500
TZNAME:EST
DTSTART:20251102T060000
END:STANDARD
BEGIN:DAYLIGHT
TZOFFSETFROM:-0500
TZOFFSETTO:-0400
TZNAME:EDT
DTSTART:20260308T070000
END:DAYLIGHT
BEGIN:STANDARD
TZOFFSETFROM:-0400
TZOFFSETTO:-0500
TZNAME:EST
DTSTART:20261101T060000
END:STANDARD
END:VTIMEZONE
BEGIN:VEVENT
DTSTART;TZID=America/New_York:20250708T120000
DTEND;TZID=America/New_York:20250708T130000
DTSTAMP:20260421T003508
CREATED:20250702T192505Z
LAST-MODIFIED:20250702T192505Z
UID:6797-1751976000-1751979600@dunnellonchamber.com
SUMMARY:Ribbon Cutting: Rivers 2 Ranches Real Estate
DESCRIPTION:Please join us on July 8 at noon as we welcome Rivers 2 Ranches Real Estate to the Dunnellon Chamber with a ribbon cutting at the Chamber office\, 20500 E. Pennsylvania Ave. in Dunnellon.Stop by\, congratulate them\, and learn a little about what sets them apart!Light refreshments will be served.
URL:https://dunnellonchamber.com/event/ribbon-cutting-rivers-2-ranches-real-estate/
LOCATION:Florida
CATEGORIES:Ribbon Cutting
END:VEVENT
BEGIN:VEVENT
DTSTART;TZID=America/New_York:20250722T173000
DTEND;TZID=America/New_York:20250722T193000
DTSTAMP:20260421T003508
CREATED:20250702T192318Z
LAST-MODIFIED:20250702T192318Z
UID:6795-1753205400-1753212600@dunnellonchamber.com
SUMMARY:Dinner Mixer: Golf Central
DESCRIPTION:Join us for our July Dinner Mixer! \n \n 
URL:https://dunnellonchamber.com/event/dinner-mixer-golf-central/
LOCATION:Florida
CATEGORIES:Dinner Mixer,Networking
END:VEVENT
BEGIN:VEVENT
DTSTART;TZID=America/New_York:20250729T120000
DTEND;TZID=America/New_York:20250729T130000
DTSTAMP:20260421T003508
CREATED:20250702T192716Z
LAST-MODIFIED:20250702T192716Z
UID:6799-1753790400-1753794000@dunnellonchamber.com
SUMMARY:Ribbon Cutting: D&D Epoxy Flooring & Creations
DESCRIPTION:Please join us on July 29th at noon as we welcome D&D Epoxy Flooring & Creations to the Dunnellon Chamber with a ribbon cutting at the Chamber office\, 20500 E. Pennsylvania Ave. in Dunnellon.Stop by\, congratulate Danielle\, and learn a little about the different types of epoxy creations she offers!Light refreshments will be served.
URL:https://dunnellonchamber.com/event/ribbon-cutting-dd-epoxy-flooring-creations/
LOCATION:Florida
CATEGORIES:Ribbon Cutting
END:VEVENT
END:VCALENDAR