BEGIN:VCALENDAR
VERSION:2.0
PRODID:-//DCBA - ECPv6.15.20//NONSGML v1.0//EN
CALSCALE:GREGORIAN
METHOD:PUBLISH
X-ORIGINAL-URL:https://dunnellonchamber.com
X-WR-CALDESC:Events for DCBA
REFRESH-INTERVAL;VALUE=DURATION:PT1H
X-Robots-Tag:noindex
X-PUBLISHED-TTL:PT1H
BEGIN:VTIMEZONE
TZID:America/New_York
BEGIN:DAYLIGHT
TZOFFSETFROM:-0500
TZOFFSETTO:-0400
TZNAME:EDT
DTSTART:20240310T070000
END:DAYLIGHT
BEGIN:STANDARD
TZOFFSETFROM:-0400
TZOFFSETTO:-0500
TZNAME:EST
DTSTART:20241103T060000
END:STANDARD
BEGIN:DAYLIGHT
TZOFFSETFROM:-0500
TZOFFSETTO:-0400
TZNAME:EDT
DTSTART:20250309T070000
END:DAYLIGHT
BEGIN:STANDARD
TZOFFSETFROM:-0400
TZOFFSETTO:-0500
TZNAME:EST
DTSTART:20251102T060000
END:STANDARD
BEGIN:DAYLIGHT
TZOFFSETFROM:-0500
TZOFFSETTO:-0400
TZNAME:EDT
DTSTART:20260308T070000
END:DAYLIGHT
BEGIN:STANDARD
TZOFFSETFROM:-0400
TZOFFSETTO:-0500
TZNAME:EST
DTSTART:20261101T060000
END:STANDARD
END:VTIMEZONE
BEGIN:VEVENT
DTSTART;TZID=America/New_York:20251101T120000
DTEND;TZID=America/New_York:20251101T120000
DTSTAMP:20260421T075149
CREATED:20251023T161143Z
LAST-MODIFIED:20251023T162453Z
UID:7106-1761998400-1761998400@dunnellonchamber.com
SUMMARY:Ribbon Cutting and Grand Opening: Rainbow Springs Art
DESCRIPTION:Help us celebrate the Grand Opening of Rainbow Springs Art’s new facility. Meet the artists\, watch art demos and enjoy food and music. RSA will be open starting at 9am\, with a Ribbon Cutting at NOON! Between 2pm-4pm they will have the reception for their ‘Family’ Community Art Show.
URL:https://dunnellonchamber.com/event/ribbon-cutting-and-grand-opening-rainbow-springs-art/
LOCATION:Rainbow Springs Art\, 20826 Walnut St\, Dunnellon\, FL\, 34431\, United States
ATTACH;FMTTYPE=image/jpeg:https://dunnellonchamber.com/wp-content/uploads/2025/10/RSA-logo.jpg
END:VEVENT
BEGIN:VEVENT
DTSTART;TZID=America/New_York:20251105T173000
DTEND;TZID=America/New_York:20251105T173000
DTSTAMP:20260421T075149
CREATED:20251015T155424Z
LAST-MODIFIED:20251015T155424Z
UID:7057-1762363800-1762363800@dunnellonchamber.com
SUMMARY:Business After Hours: One Rake at a Time
DESCRIPTION:Please join us on Wednesday\, November 5 at 5:30 pm for a Business After Hours at One Rake at a Time located at 12163 Palmetto Way in Dunnellon.Come network with other members of the business community\, enjoy some refreshments\, and learn more about One Rake at a Time! Please RSVP to 352-489-2320 or info@dunnellonchamber.com if you plan to attend.
URL:https://dunnellonchamber.com/event/business-after-hours-one-rake-at-a-time/
LOCATION:One Rake at a Time\, 12163 Palmetto Way\, Dunnellon\, 34432\, United States
ATTACH;FMTTYPE=image/jpeg:https://dunnellonchamber.com/wp-content/uploads/2025/09/Business-After-Hours-Nov-5-One-Rake.jpg
END:VEVENT
BEGIN:VEVENT
DTSTART;TZID=America/New_York:20251118T173000
DTEND;TZID=America/New_York:20251118T193000
DTSTAMP:20260421T075149
CREATED:20251029T162853Z
LAST-MODIFIED:20251031T153221Z
UID:7124-1763487000-1763494200@dunnellonchamber.com
SUMMARY:DCBA November Networking Dinner Mixer at The Works Bistro
DESCRIPTION:Join us for a fun time at our November networking dinner mixer at The Works Bistro Restaurant in Dunnellon. Tickets are $20 for members and $25 for future members. Please register early as this one will sell out! Click Here For More Info and to Register
URL:https://dunnellonchamber.com/event/dcba-november-networking-dinner-mixer-at-the-works-bistro/
LOCATION:The Works Bistro\, 12169 S Williams St\, Dunnellon\, 34432\, United States
ATTACH;FMTTYPE=image/jpeg:https://dunnellonchamber.com/wp-content/uploads/2025/10/November-Dinner-Invite.jpg
END:VEVENT
END:VCALENDAR